BEGIN:VCALENDAR
VERSION:2.0
PRODID:-//hacksw/handcal//NONSGML v1.0//EN
BEGIN:VEVENT
DTSTART:20250122T090000
DTEND:20250122T180000
LOCATION:One Monte-Carlo
ORGANIZER;CN=Iulia ipantea@ium.monaco.edu:MAILTO:
SUMMARY:Recruitement day - Monte-Carlo Société des Bains de Mer
DESCRIPTION:🎯 Explore Career Opportunities with Monte-Carlo Société des Bains de Mer!Are you a student ready to take the first step toward an exciting and rewarding career? Join the Recruitment Day with...
URL:https://alumni.monaco.edu/en/event/recruitement-day-monte-carlo-societe-des-bains-de-mer/2025/01/22/682
BEGIN:VALARM
TRIGGER:-P0DT1H0M0S
ACTION:DISPLAY
END:VALARM
END:VEVENT
END:VCALENDAR